BEGIN:VCALENDAR
VERSION:2.0
PRODID:-//Friends of Split Oak Forest - ECPv6.15.20//NONSGML v1.0//EN
CALSCALE:GREGORIAN
METHOD:PUBLISH
X-ORIGINAL-URL:https://friendsofsplitoak.org
X-WR-CALDESC:Events for Friends of Split Oak Forest
REFRESH-INTERVAL;VALUE=DURATION:PT1H
X-Robots-Tag:noindex
X-PUBLISHED-TTL:PT1H
BEGIN:VTIMEZONE
TZID:America/New_York
BEGIN:DAYLIGHT
TZOFFSETFROM:-0500
TZOFFSETTO:-0400
TZNAME:EDT
DTSTART:20230312T070000
END:DAYLIGHT
BEGIN:STANDARD
TZOFFSETFROM:-0400
TZOFFSETTO:-0500
TZNAME:EST
DTSTART:20231105T060000
END:STANDARD
BEGIN:DAYLIGHT
TZOFFSETFROM:-0500
TZOFFSETTO:-0400
TZNAME:EDT
DTSTART:20240310T070000
END:DAYLIGHT
BEGIN:STANDARD
TZOFFSETFROM:-0400
TZOFFSETTO:-0500
TZNAME:EST
DTSTART:20241103T060000
END:STANDARD
BEGIN:DAYLIGHT
TZOFFSETFROM:-0500
TZOFFSETTO:-0400
TZNAME:EDT
DTSTART:20250309T070000
END:DAYLIGHT
BEGIN:STANDARD
TZOFFSETFROM:-0400
TZOFFSETTO:-0500
TZNAME:EST
DTSTART:20251102T060000
END:STANDARD
END:VTIMEZONE
BEGIN:VEVENT
DTSTART;VALUE=DATE:20240413
DTEND;VALUE=DATE:20240414
DTSTAMP:20260420T204516
CREATED:20231230T041713Z
LAST-MODIFIED:20231230T042330Z
UID:2173-1712966400-1713052799@friendsofsplitoak.org
SUMMARY:Gopher Tortoise Day Hike
DESCRIPTION:*Register Here* \nDave Wegman will host a hike through Split Oak Forest with elected officials\, Friends of Split Oak Forest\, Volunteers\, and environmental enthusiasts across the region to celebrate Gopher Tortoise Day!
URL:https://friendsofsplitoak.org/event/gopher-tortoise-day-hike/
CATEGORIES:Gopher Tortoise Day,Hike
ATTACH;FMTTYPE=image/png:https://friendsofsplitoak.org/wp-content/uploads/2023/12/gopher-tortoise-day-april-2024-1.png
ORGANIZER;CN="Friends of Split Oak Forest":MAILTO:hello@friendsofsplitoak.org
END:VEVENT
END:VCALENDAR