BEGIN:VCALENDAR
VERSION:2.0
PRODID:-//Friends of Split Oak Forest - ECPv6.15.20//NONSGML v1.0//EN
CALSCALE:GREGORIAN
METHOD:PUBLISH
X-ORIGINAL-URL:https://friendsofsplitoak.org
X-WR-CALDESC:Events for Friends of Split Oak Forest
REFRESH-INTERVAL;VALUE=DURATION:PT1H
X-Robots-Tag:noindex
X-PUBLISHED-TTL:PT1H
BEGIN:VTIMEZONE
TZID:America/New_York
BEGIN:DAYLIGHT
TZOFFSETFROM:-0500
TZOFFSETTO:-0400
TZNAME:EDT
DTSTART:20220313T070000
END:DAYLIGHT
BEGIN:STANDARD
TZOFFSETFROM:-0400
TZOFFSETTO:-0500
TZNAME:EST
DTSTART:20221106T060000
END:STANDARD
BEGIN:DAYLIGHT
TZOFFSETFROM:-0500
TZOFFSETTO:-0400
TZNAME:EDT
DTSTART:20230312T070000
END:DAYLIGHT
BEGIN:STANDARD
TZOFFSETFROM:-0400
TZOFFSETTO:-0500
TZNAME:EST
DTSTART:20231105T060000
END:STANDARD
BEGIN:DAYLIGHT
TZOFFSETFROM:-0500
TZOFFSETTO:-0400
TZNAME:EDT
DTSTART:20240310T070000
END:DAYLIGHT
BEGIN:STANDARD
TZOFFSETFROM:-0400
TZOFFSETTO:-0500
TZNAME:EST
DTSTART:20241103T060000
END:STANDARD
END:VTIMEZONE
BEGIN:VEVENT
DTSTART;TZID=America/New_York:20230101T100000
DTEND;TZID=America/New_York:20230101T120000
DTSTAMP:20260424T075635
CREATED:20221231T190211Z
LAST-MODIFIED:20221231T190211Z
UID:1614-1672567200-1672574400@friendsofsplitoak.org
SUMMARY:New Years Day Hike
DESCRIPTION:New Year's Resolution - Save Split Oak! Come hike a few miles with us and toast our persistence! Start your 2023 off right.
URL:https://friendsofsplitoak.org/event/new-years-day-hike/
LOCATION:Split Oak Forest Main Entrance\, 12175 Clapp Simms Duda Road\, Orlando\, FL\, 32832\, United States
CATEGORIES:Hike
ORGANIZER;CN="Friends of Split Oak Forest":MAILTO:hello@friendsofsplitoak.org
END:VEVENT
END:VCALENDAR