BEGIN:VCALENDAR
VERSION:2.0
PRODID:-//Friends of Split Oak Forest - ECPv6.15.20//NONSGML v1.0//EN
CALSCALE:GREGORIAN
METHOD:PUBLISH
X-WR-CALNAME:Friends of Split Oak Forest
X-ORIGINAL-URL:https://friendsofsplitoak.org
X-WR-CALDESC:Events for Friends of Split Oak Forest
REFRESH-INTERVAL;VALUE=DURATION:PT1H
X-Robots-Tag:noindex
X-PUBLISHED-TTL:PT1H
BEGIN:VTIMEZONE
TZID:America/New_York
BEGIN:DAYLIGHT
TZOFFSETFROM:-0500
TZOFFSETTO:-0400
TZNAME:EDT
DTSTART:20210314T070000
END:DAYLIGHT
BEGIN:STANDARD
TZOFFSETFROM:-0400
TZOFFSETTO:-0500
TZNAME:EST
DTSTART:20211107T060000
END:STANDARD
BEGIN:DAYLIGHT
TZOFFSETFROM:-0500
TZOFFSETTO:-0400
TZNAME:EDT
DTSTART:20220313T070000
END:DAYLIGHT
BEGIN:STANDARD
TZOFFSETFROM:-0400
TZOFFSETTO:-0500
TZNAME:EST
DTSTART:20221106T060000
END:STANDARD
BEGIN:DAYLIGHT
TZOFFSETFROM:-0500
TZOFFSETTO:-0400
TZNAME:EDT
DTSTART:20230312T070000
END:DAYLIGHT
BEGIN:STANDARD
TZOFFSETFROM:-0400
TZOFFSETTO:-0500
TZNAME:EST
DTSTART:20231105T060000
END:STANDARD
END:VTIMEZONE
BEGIN:VEVENT
DTSTART;TZID=America/New_York:20220625T183000
DTEND;TZID=America/New_York:20220625T203000
DTSTAMP:20260424T232139
CREATED:20220622T115801Z
LAST-MODIFIED:20220622T115801Z
UID:1582-1656181800-1656189000@friendsofsplitoak.org
SUMMARY:Save Our Forests Fundraiser
DESCRIPTION:This fundraising event will benefit two important causes - #SaveSplitOak and #SaveSpruceCreek - hosted by Yaupon Brothers American Tea and Friends of Split Oak Forest. \nLight hors d'oeuvres\, wine\, beer\, soft drinks\, and tea will be served. The event will include local speakers\, a plant raffle\, and a silent art auction. All proceeds from this fundraiser will go towards legal fees to fight local authorities from building toll roads through Split Oak Forest and Spruce Creek. \nPlease help us protect this ecologically valuable conservation land in the state of Florida.
URL:https://friendsofsplitoak.org/event/save-our-forests-fundraiser/
LOCATION:Yaupon Brothers Cafe\, 504 Pullman Road\, Edgewater\, FL\, 32132\, United States
CATEGORIES:Fundraiser
END:VEVENT
END:VCALENDAR