BEGIN:VCALENDAR
VERSION:2.0
PRODID:-//Friends of Split Oak Forest - ECPv6.15.20//NONSGML v1.0//EN
CALSCALE:GREGORIAN
METHOD:PUBLISH
X-WR-CALNAME:Friends of Split Oak Forest
X-ORIGINAL-URL:https://friendsofsplitoak.org
X-WR-CALDESC:Events for Friends of Split Oak Forest
REFRESH-INTERVAL;VALUE=DURATION:PT1H
X-Robots-Tag:noindex
X-PUBLISHED-TTL:PT1H
BEGIN:VTIMEZONE
TZID:America/New_York
BEGIN:DAYLIGHT
TZOFFSETFROM:-0500
TZOFFSETTO:-0400
TZNAME:EDT
DTSTART:20200308T070000
END:DAYLIGHT
BEGIN:STANDARD
TZOFFSETFROM:-0400
TZOFFSETTO:-0500
TZNAME:EST
DTSTART:20201101T060000
END:STANDARD
BEGIN:DAYLIGHT
TZOFFSETFROM:-0500
TZOFFSETTO:-0400
TZNAME:EDT
DTSTART:20210314T070000
END:DAYLIGHT
BEGIN:STANDARD
TZOFFSETFROM:-0400
TZOFFSETTO:-0500
TZNAME:EST
DTSTART:20211107T060000
END:STANDARD
BEGIN:DAYLIGHT
TZOFFSETFROM:-0500
TZOFFSETTO:-0400
TZNAME:EDT
DTSTART:20220313T070000
END:DAYLIGHT
BEGIN:STANDARD
TZOFFSETFROM:-0400
TZOFFSETTO:-0500
TZNAME:EST
DTSTART:20221106T060000
END:STANDARD
END:VTIMEZONE
BEGIN:VEVENT
DTSTART;TZID=America/New_York:20211220T173000
DTEND;TZID=America/New_York:20211220T183000
DTSTAMP:20260422T185405
CREATED:20211220T124007Z
LAST-MODIFIED:20211220T124007Z
UID:1488-1640021400-1640025000@friendsofsplitoak.org
SUMMARY:2021 Member Meeting
DESCRIPTION:Get an update about what's going on with Split Oak and vote in our board elections. Members in good standing are Founding Members or people who have donated $20 or more this calendar year through 12/20. Existing members will receive an email later this week with voting instructions.
URL:https://friendsofsplitoak.org/event/2021-member-meeting/
LOCATION:FL
CATEGORIES:Annual Membership Meeting
ORGANIZER;CN="Friends of Split Oak Forest":MAILTO:hello@friendsofsplitoak.org
END:VEVENT
END:VCALENDAR